BEGIN:VCALENDAR
VERSION:2.0
PRODID:-//Zamkehra - ECPv6.15.20//NONSGML v1.0//EN
CALSCALE:GREGORIAN
METHOD:PUBLISH
X-WR-CALNAME:Zamkehra
X-ORIGINAL-URL:https://www.zamkehra.at
X-WR-CALDESC:Veranstaltungen für Zamkehra
REFRESH-INTERVAL;VALUE=DURATION:PT1H
X-Robots-Tag:noindex
X-PUBLISHED-TTL:PT1H
BEGIN:VTIMEZONE
TZID:Europe/Vienna
BEGIN:DAYLIGHT
TZOFFSETFROM:+0100
TZOFFSETTO:+0200
TZNAME:CEST
DTSTART:20240331T010000
END:DAYLIGHT
BEGIN:STANDARD
TZOFFSETFROM:+0200
TZOFFSETTO:+0100
TZNAME:CET
DTSTART:20241027T010000
END:STANDARD
BEGIN:DAYLIGHT
TZOFFSETFROM:+0100
TZOFFSETTO:+0200
TZNAME:CEST
DTSTART:20250330T010000
END:DAYLIGHT
BEGIN:STANDARD
TZOFFSETFROM:+0200
TZOFFSETTO:+0100
TZNAME:CET
DTSTART:20251026T010000
END:STANDARD
BEGIN:DAYLIGHT
TZOFFSETFROM:+0100
TZOFFSETTO:+0200
TZNAME:CEST
DTSTART:20260329T010000
END:DAYLIGHT
BEGIN:STANDARD
TZOFFSETFROM:+0200
TZOFFSETTO:+0100
TZNAME:CET
DTSTART:20261025T010000
END:STANDARD
END:VTIMEZONE
BEGIN:VEVENT
DTSTART;TZID=Europe/Vienna:20250802T193000
DTEND;TZID=Europe/Vienna:20250803T013000
DTSTAMP:20260422T003135
CREATED:20250201T160833Z
LAST-MODIFIED:20250201T160833Z
UID:397-1754163000-1754184600@www.zamkehra.at
SUMMARY:Weintage
DESCRIPTION:
URL:https://www.zamkehra.at/event/weintage/
LOCATION:Lutzmannsburg\, Hauptplatz\, Burgenland\, 7361\, Austria
END:VEVENT
BEGIN:VEVENT
DTSTART;TZID=Europe/Vienna:20250810T150000
DTEND;TZID=Europe/Vienna:20250810T190000
DTSTAMP:20260422T003135
CREATED:20250416T103027Z
LAST-MODIFIED:20250416T103027Z
UID:428-1754838000-1754852400@www.zamkehra.at
SUMMARY:Viva la Plutzer
DESCRIPTION:
URL:https://www.zamkehra.at/event/viva-la-plutzer/
LOCATION:Stoob\, Burgenland\, 7344\, Austria
END:VEVENT
BEGIN:VEVENT
DTSTART;TZID=Europe/Vienna:20250815T150000
DTEND;TZID=Europe/Vienna:20250815T200000
DTSTAMP:20260422T003135
CREATED:20250630T115401Z
LAST-MODIFIED:20250630T115401Z
UID:468-1755270000-1755288000@www.zamkehra.at
SUMMARY:130 Jahre Jugend-Kobersdorf
DESCRIPTION:
URL:https://www.zamkehra.at/event/130-jahre-jugend-kobersdorf/
LOCATION:Kobersdorf\, Burgenland\, Austria
END:VEVENT
BEGIN:VEVENT
DTSTART;TZID=Europe/Vienna:20250816T180000
DTEND;TZID=Europe/Vienna:20250816T210000
DTSTAMP:20260422T003135
CREATED:20250630T115839Z
LAST-MODIFIED:20250630T115839Z
UID:470-1755367200-1755378000@www.zamkehra.at
SUMMARY:Weintage
DESCRIPTION:
URL:https://www.zamkehra.at/event/weintage-2/
LOCATION:Neckenmarkt\, Burgenland\, Austria
END:VEVENT
BEGIN:VEVENT
DTSTART;TZID=Europe/Vienna:20250824T110000
DTEND;TZID=Europe/Vienna:20250824T140000
DTSTAMP:20260422T003135
CREATED:20250630T121228Z
LAST-MODIFIED:20250630T121352Z
UID:472-1756033200-1756044000@www.zamkehra.at
SUMMARY:Frühschoppen
DESCRIPTION:
URL:https://www.zamkehra.at/event/fruehschoppen-3/
LOCATION:Draßmarkt\, Burgenland\, Austria
END:VEVENT
BEGIN:VEVENT
DTSTART;TZID=Europe/Vienna:20250830T220000
DTEND;TZID=Europe/Vienna:20250831T020000
DTSTAMP:20260422T003135
CREATED:20250201T161104Z
LAST-MODIFIED:20250201T161104Z
UID:400-1756591200-1756605600@www.zamkehra.at
SUMMARY:Bezirksblasmusikertreffen
DESCRIPTION:
URL:https://www.zamkehra.at/event/bezirksblasmusikertreffen/
LOCATION:Pilgersdorf\, Sportplatz\, Burgenland\, 7441\, Austria
END:VEVENT
END:VCALENDAR