BEGIN:VCALENDAR
VERSION:2.0
PRODID:-//Zamkehra - ECPv6.15.20//NONSGML v1.0//EN
CALSCALE:GREGORIAN
METHOD:PUBLISH
X-WR-CALNAME:Zamkehra
X-ORIGINAL-URL:https://www.zamkehra.at
X-WR-CALDESC:Veranstaltungen für Zamkehra
REFRESH-INTERVAL;VALUE=DURATION:PT1H
X-Robots-Tag:noindex
X-PUBLISHED-TTL:PT1H
BEGIN:VTIMEZONE
TZID:Europe/Vienna
BEGIN:DAYLIGHT
TZOFFSETFROM:+0100
TZOFFSETTO:+0200
TZNAME:CEST
DTSTART:20250330T010000
END:DAYLIGHT
BEGIN:STANDARD
TZOFFSETFROM:+0200
TZOFFSETTO:+0100
TZNAME:CET
DTSTART:20251026T010000
END:STANDARD
BEGIN:DAYLIGHT
TZOFFSETFROM:+0100
TZOFFSETTO:+0200
TZNAME:CEST
DTSTART:20260329T010000
END:DAYLIGHT
BEGIN:STANDARD
TZOFFSETFROM:+0200
TZOFFSETTO:+0100
TZNAME:CET
DTSTART:20261025T010000
END:STANDARD
BEGIN:DAYLIGHT
TZOFFSETFROM:+0100
TZOFFSETTO:+0200
TZNAME:CEST
DTSTART:20270328T010000
END:DAYLIGHT
BEGIN:STANDARD
TZOFFSETFROM:+0200
TZOFFSETTO:+0100
TZNAME:CET
DTSTART:20271031T010000
END:STANDARD
END:VTIMEZONE
BEGIN:VEVENT
DTSTART;TZID=Europe/Vienna:20260510T110000
DTEND;TZID=Europe/Vienna:20260510T140000
DTSTAMP:20260421T114336
CREATED:20250714T115529Z
LAST-MODIFIED:20250714T115529Z
UID:482-1778410800-1778421600@www.zamkehra.at
SUMMARY:Frühschoppen
DESCRIPTION:
URL:https://www.zamkehra.at/event/fruehschoppen-4/
LOCATION:Markt St. Martin\, Sportplatz\, Burgenland\, Austria
END:VEVENT
BEGIN:VEVENT
DTSTART;TZID=Europe/Vienna:20260523T170000
DTEND;TZID=Europe/Vienna:20260523T200000
DTSTAMP:20260421T114336
CREATED:20250714T115720Z
LAST-MODIFIED:20250714T115720Z
UID:484-1779555600-1779566400@www.zamkehra.at
SUMMARY:Fest
DESCRIPTION:
URL:https://www.zamkehra.at/event/fest/
LOCATION:Purbach\, Burgenland\, Austria
END:VEVENT
BEGIN:VEVENT
DTSTART;TZID=Europe/Vienna:20260620T180000
DTEND;TZID=Europe/Vienna:20260620T200000
DTSTAMP:20260421T114336
CREATED:20250416T105306Z
LAST-MODIFIED:20250416T105306Z
UID:444-1781978400-1781985600@www.zamkehra.at
SUMMARY:Bezirksblasmusikertreffen
DESCRIPTION:
URL:https://www.zamkehra.at/event/bezirksblasmusikertreffen-2/
LOCATION:Großschönau\, Niederösterreich\, 3922\, Austria
END:VEVENT
BEGIN:VEVENT
DTSTART;TZID=Europe/Vienna:20260704T203000
DTEND;TZID=Europe/Vienna:20260705T040000
DTSTAMP:20260421T114336
CREATED:20250714T115920Z
LAST-MODIFIED:20250714T115920Z
UID:487-1783197000-1783224000@www.zamkehra.at
SUMMARY:Waldfest
DESCRIPTION:
URL:https://www.zamkehra.at/event/waldfest/
LOCATION:Unterfrauenhaid\, Burgenland\, Austria
END:VEVENT
END:VCALENDAR